BEGIN:VCALENDAR
VERSION:2.0
PRODID:-//Reštaurácia Berek Nové Zámky - ECPv4.8.2//NONSGML v1.0//EN
CALSCALE:GREGORIAN
METHOD:PUBLISH
X-WR-CALNAME:Reštaurácia Berek Nové Zámky
X-ORIGINAL-URL:https://bereknz.sk
X-WR-CALDESC:Udalosti pre Reštaurácia Berek Nové Zámky
BEGIN:VEVENT
DTSTART;TZID=Europe/Bratislava:20200221T190000
DTEND;TZID=Europe/Bratislava:20200221T233000
DTSTAMP:20260422T180313
CREATED:20200220T154721Z
LAST-MODIFIED:20200220T154721Z
UID:2460-1582311600-1582327800@bereknz.sk
SUMMARY:ATLANTIC 4EVER
DESCRIPTION:
URL:https://bereknz.sk/udalosti/atlantic-4ever-27/
END:VEVENT
END:VCALENDAR