BEGIN:VCALENDAR
VERSION:2.0
PRODID:-//Reštaurácia Berek Nové Zámky - ECPv4.8.2//NONSGML v1.0//EN
CALSCALE:GREGORIAN
METHOD:PUBLISH
X-WR-CALNAME:Reštaurácia Berek Nové Zámky
X-ORIGINAL-URL:https://bereknz.sk
X-WR-CALDESC:Udalosti pre Reštaurácia Berek Nové Zámky
BEGIN:VEVENT
DTSTART;TZID=Europe/Bratislava:20200228T190000
DTEND;TZID=Europe/Bratislava:20200228T233000
DTSTAMP:20260422T180500
CREATED:20200220T155215Z
LAST-MODIFIED:20200220T155215Z
UID:2466-1582916400-1582932600@bereknz.sk
SUMMARY:ATLANTIC 4EVER
DESCRIPTION:
URL:https://bereknz.sk/udalosti/atlantic-4ever-28/
END:VEVENT
END:VCALENDAR