BEGIN:VCALENDAR
VERSION:2.0
PRODID:-//Reštaurácia Berek Nové Zámky - ECPv4.8.2//NONSGML v1.0//EN
CALSCALE:GREGORIAN
METHOD:PUBLISH
X-WR-CALNAME:Reštaurácia Berek Nové Zámky
X-ORIGINAL-URL:https://bereknz.sk
X-WR-CALDESC:Udalosti pre Reštaurácia Berek Nové Zámky
BEGIN:VEVENT
DTSTART;TZID=Europe/Bratislava:20200222T190000
DTEND;TZID=Europe/Bratislava:20200222T233000
DTSTAMP:20260422T180312
CREATED:20200220T154835Z
LAST-MODIFIED:20200220T154835Z
UID:2462-1582398000-1582414200@bereknz.sk
SUMMARY:TRIO BAND
DESCRIPTION:
URL:https://bereknz.sk/udalosti/trio-band/
END:VEVENT
END:VCALENDAR