BEGIN:VCALENDAR
VERSION:2.0
PRODID:-//Reštaurácia Berek Nové Zámky - ECPv4.8.2//NONSGML v1.0//EN
CALSCALE:GREGORIAN
METHOD:PUBLISH
X-WR-CALNAME:Reštaurácia Berek Nové Zámky
X-ORIGINAL-URL:https://bereknz.sk
X-WR-CALDESC:Udalosti pre Reštaurácia Berek Nové Zámky
BEGIN:VEVENT
DTSTART;TZID=Europe/Bratislava:20200105T080000
DTEND;TZID=Europe/Bratislava:20200105T170000
DTSTAMP:20260423T011131
CREATED:20191212T193011Z
LAST-MODIFIED:20191215T175444Z
UID:2398-1578211200-1578243600@bereknz.sk
SUMMARY:CELOZÁVODNÁ DOVOLENKA
DESCRIPTION:
URL:https://bereknz.sk/udalosti/uzavreta-spolocnost-celozavodna-dovolenka-14/
END:VEVENT
END:VCALENDAR